BEGIN:VCALENDAR
VERSION:2.0
PRODID:-//ADR Training Collaborative - ECPv6.15.20//NONSGML v1.0//EN
CALSCALE:GREGORIAN
METHOD:PUBLISH
X-WR-CALNAME:ADR Training Collaborative
X-ORIGINAL-URL:https://www.adrctraining.com
X-WR-CALDESC:Events for ADR Training Collaborative
REFRESH-INTERVAL;VALUE=DURATION:PT1H
X-Robots-Tag:noindex
X-PUBLISHED-TTL:PT1H
BEGIN:VTIMEZONE
TZID:UTC
BEGIN:STANDARD
TZOFFSETFROM:+0000
TZOFFSETTO:+0000
TZNAME:UTC
DTSTART:20200101T000000
END:STANDARD
END:VTIMEZONE
BEGIN:VEVENT
DTSTART;TZID=UTC:20210623T083000
DTEND;TZID=UTC:20210627T173000
DTSTAMP:20260424T054043
CREATED:20210503T174119Z
LAST-MODIFIED:20210503T174601Z
UID:2026-1624437000-1624815000@www.adrctraining.com
SUMMARY:Florida Supreme Court Circuit Mediation Certification Training. JUNE 23-27\, 2021 100% Online Platform
DESCRIPTION:NOTE: The Florida Supreme Court has mandatory requirements that must be met by a person applying for certification as a mediator. In addition to completing a Florida Supreme Court certified mediation training program\, the applicant must possess sufficient education (which may include graduate-level degrees or certificates for circuit civil mediator certification) and experience\, complete the required mentorship obligations\, and demonstrate good moral character. The specific requirements are contained in rules 10.100\, Certification Requirements\, and 10.105\, Point System Categories\, Florida Rules for Certified and Court-Appointed Mediators as well as in Administrative Orders AOSC11-1 and AOSC12-48. This information is in the document How to Become A Florida Supreme Court Certified Mediator\, Step By Step Guide which is available at www.flcourts.org\, Dispute Resolution\, Information for Providers and Legal Professionals\, Certification Qualifications. \nMaterials provided the first day of training (there may be an additional cost to be determined by the trainer) & morning coffee (virtual LOL). \nIMPORTANT. The days for this class are as follows June 23 – June 27\, 2021. COMPLETELY 100% ONLINE!!! \nIncludes all materials.
URL:https://www.adrctraining.com/event/florida-supreme-court-circuit-mediation-certification-training-june-23-27-2021-100-online-platform/
END:VEVENT
END:VCALENDAR