BEGIN:VCALENDAR
VERSION:2.0
PRODID:-//ADR Training Collaborative - ECPv6.15.20//NONSGML v1.0//EN
CALSCALE:GREGORIAN
METHOD:PUBLISH
X-ORIGINAL-URL:https://www.adrctraining.com
X-WR-CALDESC:Events for ADR Training Collaborative
REFRESH-INTERVAL;VALUE=DURATION:PT1H
X-Robots-Tag:noindex
X-PUBLISHED-TTL:PT1H
BEGIN:VTIMEZONE
TZID:UTC
BEGIN:STANDARD
TZOFFSETFROM:+0000
TZOFFSETTO:+0000
TZNAME:UTC
DTSTART:20240101T000000
END:STANDARD
END:VTIMEZONE
BEGIN:VEVENT
DTSTART;TZID=UTC:20260415T083000
DTEND;TZID=UTC:20260419T170000
DTSTAMP:20260423T192930
CREATED:20260110T010751Z
LAST-MODIFIED:20260313T205025Z
UID:2456-1776241800-1776618000@www.adrctraining.com
SUMMARY:Florida Supreme Court Circuit Mediator Certification Training\, 40 hours (5 Days) April 15 - April 19\, 2026
DESCRIPTION:NOTE: The Florida Supreme Court has mandatory requirements that must be met by a person applying for certification as a mediator. In addition to completing a Florida Supreme Court-Certified Mediation Training program\, the applicant must possess sufficient education (which may include graduate-level degrees\, educational equivalents or other like certification as a mediator) and experience\, complete the required mentorship obligations\, and demonstrate good moral character. The specific requirements are contained in rules 10.100\, Certification Requirements\, and 10.105\, Point System Categories\, Florida Rules for Certified and Court-Appointed Mediators as well as in Administrative Orders AOSC11-1 and AOSC12-48. This information is in the document How to Become A Florida Supreme Court Certified Mediator\, Step By Step Guide which is available at www.flcourts.org\, Dispute Resolution\, Information for Providers and Legal Professionals\, Certification Qualifications. \nMaterials are provided on the first day of training (there may be an additional cost to be determined by the trainer for hard copies or extra copies) & they’ll be morning coffee (virtual LOL!). \nIMPORTANT. The days for this class are as follows April 15 – April 19\, 2026. This will be COMPLETELY 100% ONLINE + LIVELY+INFORMATIVE!!! \nIncludes the training binder/material will be provided electronically. \nClick here for the registration form \nTo purchase Course\, please visit click here
URL:https://www.adrctraining.com/event/florida-supreme-court-circuit-mediator-certification-training-40-hours-5-days-march-18-march-22-2026/
CATEGORIES:Circuit Training
END:VEVENT
BEGIN:VEVENT
DTSTART;TZID=UTC:20260318T083000
DTEND;TZID=UTC:20260322T170000
DTSTAMP:20260423T192930
CREATED:20250702T191828Z
LAST-MODIFIED:20260313T212707Z
UID:2394-1773822600-1774198800@www.adrctraining.com
SUMMARY:Florida Supreme Court Circuit Mediator Certification Training\, 40 hour (5 Days) March 18 - March 22 \, 2026
DESCRIPTION:  \nNOTE: The Florida Supreme Court has mandatory requirements that must be met by a person applying for certification as a mediator. In addition to completing a Florida Supreme Court-Certified Mediation Training program\, the applicant must possess sufficient education (which may include graduate-level degrees\, educational equivalents or other like certification as a mediator) and experience\, complete the required mentorship obligations\, and demonstrate good moral character. The specific requirements are contained in rules 10.100\, Certification Requirements\, and 10.105\, Point System Categories\, Florida Rules for Certified and Court-Appointed Mediators as well as in Administrative Orders AOSC11-1 and AOSC12-48. This information is in the document How to Become A Florida Supreme Court Certified Mediator\, Step By Step Guide which is available at www.flcourts.org\, Dispute Resolution\, Information for Providers and Legal Professionals\, Certification Qualifications. \nMaterials are provided on the first day of training (there may be an additional cost to be determined by the trainer for hard copies or extra copies) & they’ll be morning coffee (virtual LOL!). \nIMPORTANT. The days for this class are as follows March 18 – March 22\, 2026. This will be COMPLETELY 100% ONLINE + LIVELY+INFORMATIVE!!! \nIncludes the training binder/material will be provided electronically. \nClick here for the registration form \nTo purchase Course\, please visit click here \n  \n 
URL:https://www.adrctraining.com/event/florida-supreme-court-circuit-mediator-certification-training-40-hour-5-days-august-13-august-17-2025/
CATEGORIES:Circuit Training
END:VEVENT
BEGIN:VEVENT
DTSTART;TZID=UTC:20260121T083000
DTEND;TZID=UTC:20260125T170000
DTSTAMP:20260423T192930
CREATED:20250702T192359Z
LAST-MODIFIED:20251130T225116Z
UID:2396-1768984200-1769360400@www.adrctraining.com
SUMMARY:Florida Supreme Court Circuit Mediator Certification Training\, 40 hour (5 Days) January 21 - January 25\, 2026
DESCRIPTION:  \nNOTE: The Florida Supreme Court has mandatory requirements that must be met by a person applying for certification as a mediator. In addition to completing a Florida Supreme Court-Certified Mediation Training program\, the applicant must possess sufficient education (which may include graduate-level degrees\, educational equivalents or other like certification as a mediator) and experience\, complete the required mentorship obligations\, and demonstrate good moral character. The specific requirements are contained in rules 10.100\, Certification Requirements\, and 10.105\, Point System Categories\, Florida Rules for Certified and Court-Appointed Mediators as well as in Administrative Orders AOSC11-1 and AOSC12-48. This information is in the document How to Become A Florida Supreme Court Certified Mediator\, Step By Step Guide which is available at www.flcourts.org\, Dispute Resolution\, Information for Providers and Legal Professionals\, Certification Qualifications. \nMaterials are provided on the first day of training (there may be an additional cost to be determined by the trainer for hard copies or extra copies) & they’ll be morning coffee (virtual LOL!). \nIMPORTANT. The days for this class are as follows January 21 – January 25\, 2026. This will be COMPLETELY 100% ONLINE + LIVELY+INFORMATIVE!!! \nIncludes the training binder/material will be provided electronically. \nClick here for the registration form \nTo purchase Course\, please visit click here \n  \n  \n 
URL:https://www.adrctraining.com/event/florida-supreme-court-circuit-mediator-certification-training-40-hour-5-days-sept-17-sept-21-2025/
CATEGORIES:Circuit Training
END:VEVENT
BEGIN:VEVENT
DTSTART;TZID=UTC:20251210T083000
DTEND;TZID=UTC:20251214T170000
DTSTAMP:20260423T192930
CREATED:20250623T210414Z
LAST-MODIFIED:20251130T224811Z
UID:2377-1765355400-1765731600@www.adrctraining.com
SUMMARY:Florida Supreme Court Circuit Mediator Certification Training\, 40 hour (5 Days) December 10 – December 14\, 2025
DESCRIPTION:  \nNOTE: The Florida Supreme Court has mandatory requirements that must be met by a person applying for certification as a mediator. In addition to completing a Florida Supreme Court-Certified Mediation Training program\, the applicant must possess sufficient education (which may include graduate-level degrees\, educational equivalents or other like certification as a mediator) and experience\, complete the required mentorship obligations\, and demonstrate good moral character. The specific requirements are contained in rules 10.100\, Certification Requirements\, and 10.105\, Point System Categories\, Florida Rules for Certified and Court-Appointed Mediators as well as in Administrative Orders AOSC11-1 and AOSC12-48. This information is in the document How to Become A Florida Supreme Court Certified Mediator\, Step By Step Guide which is available at www.flcourts.org\, Dispute Resolution\, Information for Providers and Legal Professionals\, Certification Qualifications. \nMaterials are provided on the first day of training (there may be an additional cost to be determined by the trainer for hard copies or extra copies) & they’ll be morning coffee (virtual LOL!). \nIMPORTANT. The days for this class are as follows December 10 – December 14\, 2025. This will be COMPLETELY 100% ONLINE + LIVELY+INFORMATIVE!!! \nIncludes the training binder/material will be provided electronically. \nClick here for the registration form \nTo purchase Course\, please visit click here
URL:https://www.adrctraining.com/event/florida-supreme-court-circuit-mediator-certification-training-40-hour-5-days-july-16-july-20-2025/
CATEGORIES:Circuit Training
END:VEVENT
BEGIN:VEVENT
DTSTART;TZID=UTC:20250625T083000
DTEND;TZID=UTC:20250628T173000
DTSTAMP:20260423T192930
CREATED:20250128T234530Z
LAST-MODIFIED:20250627T194931Z
UID:2299-1750840200-1751131800@www.adrctraining.com
SUMMARY:Florida Supreme Court County Mediator Certification Training\, 30 hours (4 Days) June 25 - June 28\, 2025
DESCRIPTION:We are excited and proud to be having Cristal Cotman participate as a trainer with ADR Trainnig Collaborative\, LLC. Her 3o years of service as an ADR professional is invalable! Click here to review her bio!  \nNOTE: The Florida Supreme Court has mandatory requirements that must be met by a person applying for certification as a mediator. In addition to completing a Florida Supreme Court-Certified Mediation Training program\, the applicant must possess sufficient education (which may include graduate-level degrees\, educational equivalents or other like certification as a mediator) and experience\, complete the required mentorship obligations\, and demonstrate good moral character. The specific requirements are contained in rules 10.100\, Certification Requirements\, and 10.105\, Point System Categories\, Florida Rules for Certified and Court-Appointed Mediators as well as in Administrative Orders AOSC11-1 and AOSC12-48. This information is in the document How to Become A Florida Supreme Court Certified Mediator\, Step By Step Guide which is available at www.flcourts.org\, Dispute Resolution\, Information for Providers and Legal Professionals\, Certification Qualifications. \nMaterials are provided on the first day of training (there may be an additional cost to be determined by the trainer for hard copies or extra copies) & they’ll be morning coffee (virtual LOL!). \nIMPORTANT. The days for this class are as follows June 25 – June 28\, 2025. This will be COMPLETELY 100% ONLINE + LIVELY+INFORMATIVE!!! \nIncludes the training binder/material will be provided electronically. \nClick here for the registration form \nTo purchase the course\, click here 
URL:https://www.adrctraining.com/event/florida-supreme-court-county-mediator-certification-training-30-hours-4-days-february-26-march-1-2025/
CATEGORIES:Circuit Training
END:VEVENT
END:VCALENDAR