BEGIN:VCALENDAR
VERSION:2.0
PRODID:-//ADR Training Collaborative - ECPv6.15.20//NONSGML v1.0//EN
CALSCALE:GREGORIAN
METHOD:PUBLISH
X-ORIGINAL-URL:https://www.adrctraining.com
X-WR-CALDESC:Events for ADR Training Collaborative
REFRESH-INTERVAL;VALUE=DURATION:PT1H
X-Robots-Tag:noindex
X-PUBLISHED-TTL:PT1H
BEGIN:VTIMEZONE
TZID:UTC
BEGIN:STANDARD
TZOFFSETFROM:+0000
TZOFFSETTO:+0000
TZNAME:UTC
DTSTART:20250101T000000
END:STANDARD
END:VTIMEZONE
BEGIN:VEVENT
DTSTART;TZID=UTC:20260429T083000
DTEND;TZID=UTC:20260502T170000
DTSTAMP:20260424T002633
CREATED:20250702T193228Z
LAST-MODIFIED:20260313T204728Z
UID:2398-1777451400-1777741200@www.adrctraining.com
SUMMARY:Florida Supreme Court County Mediator Certification Training\, 30 hours (4 Days) April 29 - May 2\, 2026
DESCRIPTION:  \nNOTE: The Florida Supreme Court has mandatory requirements that must be met by a person applying for certification as a mediator. In addition to completing a Florida Supreme Court-Certified Mediation Training program\, the applicant must possess sufficient education (which may include graduate-level degrees\, educational equivalents or other like certification as a mediator) and experience\, complete the required mentorship obligations\, and demonstrate good moral character. The specific requirements are contained in rules 10.100\, Certification Requirements\, and 10.105\, Point System Categories\, Florida Rules for Certified and Court-Appointed Mediators as well as in Administrative Orders AOSC11-1 and AOSC12-48. This information is in the document How to Become A Florida Supreme Court Certified Mediator\, Step By Step Guide which is available at www.flcourts.org\, Dispute Resolution\, Information for Providers and Legal Professionals\, Certification Qualifications. \nMaterials are provided on the first day of training (there may be an additional cost to be determined by the trainer for hard copies or extra copies) & they’ll be morning coffee (virtual LOL!). \nIMPORTANT. The days for this class are as follows April 29 – May 2\, 2026. This will be COMPLETELY 100% ONLINE + LIVELY+INFORMATIVE!!! \nIncludes the training binder/material will be provided electronically. \nClick here for the registration form \nTo purchase the course\, click here  \n 
URL:https://www.adrctraining.com/event/florida-supreme-court-county-mediator-certification-training-30-hours-4-days-august-20-august-23-2025/
CATEGORIES:County Training
END:VEVENT
BEGIN:VEVENT
DTSTART;TZID=UTC:20260506T083000
DTEND;TZID=UTC:20260510T170000
DTSTAMP:20260424T002633
CREATED:20260107T151934Z
LAST-MODIFIED:20260313T211834Z
UID:2451-1778056200-1778432400@www.adrctraining.com
SUMMARY:Florida Supreme Court Circuit Mediator Certification Training\, 40 hours (5 Days) May 6 - May 10\, 2026
DESCRIPTION:NOTE: The Florida Supreme Court has mandatory requirements that must be met by a person applying for certification as a mediator. In addition to completing a Florida Supreme Court-Certified Mediation Training program\, the applicant must possess sufficient education (which may include graduate-level degrees\, educational equivalents or other like certification as a mediator) and experience\, complete the required mentorship obligations\, and demonstrate good moral character. The specific requirements are contained in rules 10.100\, Certification Requirements\, and 10.105\, Point System Categories\, Florida Rules for Certified and Court-Appointed Mediators as well as in Administrative Orders AOSC11-1 and AOSC12-48. This information is in the document How to Become A Florida Supreme Court Certified Mediator\, Step By Step Guide which is available at www.flcourts.org\, Dispute Resolution\, Information for Providers and Legal Professionals\, Certification Qualifications. \nMaterials are provided on the first day of training (there may be an additional cost to be determined by the trainer for hard copies or extra copies) & they’ll be morning coffee (virtual LOL!). \nIMPORTANT. The days for this class are as follows May 6\, 2026 – May 10\, 2026. This will be COMPLETELY 100% ONLINE + LIVELY+INFORMATIVE!!! \nIncludes the training binder/material will be provided electronically. \nClick here for the registration form \nTo purchase Course\, please visit click here \n 
URL:https://www.adrctraining.com/event/florida-supreme-court-circuit-mediator-certification-training-40-hours-5-days-february-25-march-1-2026/
CATEGORIES:Circuit Training
END:VEVENT
BEGIN:VEVENT
DTSTART;TZID=UTC:20260513T083000
DTEND;TZID=UTC:20260516T170000
DTSTAMP:20260424T002633
CREATED:20250702T194651Z
LAST-MODIFIED:20260313T204429Z
UID:2402-1778661000-1778950800@www.adrctraining.com
SUMMARY:Florida Supreme Court County Mediator Certification Training\, 30 hours (4 Days) May 13 -  May 16\, 2026
DESCRIPTION:  \nNOTE: The Florida Supreme Court has mandatory requirements that must be met by a person applying for certification as a mediator. In addition to completing a Florida Supreme Court-Certified Mediation Training program\, the applicant must possess sufficient education (which may include graduate-level degrees\, educational equivalents or other like certification as a mediator) and experience\, complete the required mentorship obligations\, and demonstrate good moral character. The specific requirements are contained in rules 10.100\, Certification Requirements\, and 10.105\, Point System Categories\, Florida Rules for Certified and Court-Appointed Mediators as well as in Administrative Orders AOSC11-1 and AOSC12-48. This information is in the document How to Become A Florida Supreme Court Certified Mediator\, Step By Step Guide which is available at www.flcourts.org\, Dispute Resolution\, Information for Providers and Legal Professionals\, Certification Qualifications. \nMaterials are provided on the first day of training (there may be an additional cost to be determined by the trainer for hard copies or extra copies) & they’ll be morning coffee (virtual LOL!). \nIMPORTANT. The days for this class are as follows May 13 – May  16\, 2026. This will be COMPLETELY 100% ONLINE + LIVELY+INFORMATIVE!!! \nIncludes the training binder/material will be provided electronically. \nClick here for the registration form \nTo purchase the course\, click here  \n  \n  \n 
URL:https://www.adrctraining.com/event/florida-supreme-court-county-mediator-certification-training-30-hours-4-days-september-24-september-27-2025/
CATEGORIES:County Training
END:VEVENT
END:VCALENDAR