BEGIN:VCALENDAR
VERSION:2.0
PRODID:-//ADR Training Collaborative - ECPv6.15.20//NONSGML v1.0//EN
CALSCALE:GREGORIAN
METHOD:PUBLISH
X-WR-CALNAME:ADR Training Collaborative
X-ORIGINAL-URL:https://www.adrctraining.com
X-WR-CALDESC:Events for ADR Training Collaborative
REFRESH-INTERVAL;VALUE=DURATION:PT1H
X-Robots-Tag:noindex
X-PUBLISHED-TTL:PT1H
BEGIN:VTIMEZONE
TZID:UTC
BEGIN:STANDARD
TZOFFSETFROM:+0000
TZOFFSETTO:+0000
TZNAME:UTC
DTSTART:20230101T000000
END:STANDARD
END:VTIMEZONE
BEGIN:VEVENT
DTSTART;TZID=UTC:20240828T083000
DTEND;TZID=UTC:20240901T170000
DTSTAMP:20260425T035438
CREATED:20240726T121120Z
LAST-MODIFIED:20240726T121120Z
UID:2261-1724833800-1725210000@www.adrctraining.com
SUMMARY:Florida Supreme Court Circuit Mediator Certification Training\, 40 hour (5 Days) August 28 - September 1\, 2024
DESCRIPTION:  \n  \nNOTE: The Florida Supreme Court has mandatory requirements that must be met by a person applying for certification as a mediator. In addition to completing a Florida Supreme Court-Certified Mediation Training program\, the applicant must possess sufficient education (which may include graduate-level degrees\, educational equivalents or other like certification as a mediator) and experience\, complete the required mentorship obligations\, and demonstrate good moral character. The specific requirements are contained in rules 10.100\, Certification Requirements\, and 10.105\, Point System Categories\, Florida Rules for Certified and Court-Appointed Mediators as well as in Administrative Orders AOSC11-1 and AOSC12-48. This information is in the document How to Become A Florida Supreme Court Certified Mediator\, Step By Step Guide which is available at www.flcourts.org\, Dispute Resolution\, Information for Providers and Legal Professionals\, Certification Qualifications. \nMaterials are provided on the first day of training (there may be an additional cost to be determined by the trainer for hard copies or extra copies) & they’ll be morning coffee (virtual LOL!). \nIMPORTANT. The days for this class are as follows August 28- September 1\, 2024. This will be COMPLETELY 100% ONLINE + LIVELY+INFORMATIVE!!! \nIncludes the training binder/material will be provided electronically.
URL:https://www.adrctraining.com/event/florida-supreme-court-circuit-mediator-certification-training-40-hour-5-days-august-28-september-1-2024/
END:VEVENT
BEGIN:VEVENT
DTSTART;TZID=UTC:20240918T083000
DTEND;TZID=UTC:20240922T173000
DTSTAMP:20260425T035438
CREATED:20240726T121841Z
LAST-MODIFIED:20240726T152909Z
UID:2264-1726648200-1727026200@www.adrctraining.com
SUMMARY:Florida Supreme Court Circuit Mediator Certification Training\, 40 hour (5 Days) September 18 -September 22\, 2024
DESCRIPTION:  \n  \nNOTE: The Florida Supreme Court has mandatory requirements that must be met by a person applying for certification as a mediator. In addition to completing a Florida Supreme Court-Certified Mediation Training program\, the applicant must possess sufficient education (which may include graduate-level degrees\, educational equivalents or other like certification as a mediator) and experience\, complete the required mentorship obligations\, and demonstrate good moral character. The specific requirements are contained in rules 10.100\, Certification Requirements\, and 10.105\, Point System Categories\, Florida Rules for Certified and Court-Appointed Mediators as well as in Administrative Orders AOSC11-1 and AOSC12-48. This information is in the document How to Become A Florida Supreme Court Certified Mediator\, Step By Step Guide which is available at www.flcourts.org\, Dispute Resolution\, Information for Providers and Legal Professionals\, Certification Qualifications. \nMaterials are provided on the first day of training (there may be an additional cost to be determined by the trainer for hard copies or extra copies) & they’ll be morning coffee (virtual LOL!). \nIMPORTANT. The days for this class are as follows September 18-September 22\, 2024. This will be COMPLETELY 100% ONLINE + LIVELY+INFORMATIVE!!! \nIncludes the training binder/material will be provided electronically.
URL:https://www.adrctraining.com/event/florida-supreme-court-circuit-mediator-certification-training-40-hour-5-days-september-18-september-22-2024/
END:VEVENT
END:VCALENDAR